BEGIN:VCALENDAR
VERSION:2.0
PRODID:-//Spring Forest Qigong - ECPv6.15.17.1//NONSGML v1.0//EN
CALSCALE:GREGORIAN
METHOD:PUBLISH
X-WR-CALNAME:Spring Forest Qigong
X-ORIGINAL-URL:https://www.springforestqigong.com
X-WR-CALDESC:Events for Spring Forest Qigong
REFRESH-INTERVAL;VALUE=DURATION:PT1H
X-Robots-Tag:noindex
X-PUBLISHED-TTL:PT1H
BEGIN:VTIMEZONE
TZID:Europe/Amsterdam
BEGIN:DAYLIGHT
TZOFFSETFROM:+0100
TZOFFSETTO:+0200
TZNAME:CEST
DTSTART:20240331T010000
END:DAYLIGHT
BEGIN:STANDARD
TZOFFSETFROM:+0200
TZOFFSETTO:+0100
TZNAME:CET
DTSTART:20241027T010000
END:STANDARD
BEGIN:DAYLIGHT
TZOFFSETFROM:+0100
TZOFFSETTO:+0200
TZNAME:CEST
DTSTART:20250330T010000
END:DAYLIGHT
BEGIN:STANDARD
TZOFFSETFROM:+0200
TZOFFSETTO:+0100
TZNAME:CET
DTSTART:20251026T010000
END:STANDARD
BEGIN:DAYLIGHT
TZOFFSETFROM:+0100
TZOFFSETTO:+0200
TZNAME:CEST
DTSTART:20260329T010000
END:DAYLIGHT
BEGIN:STANDARD
TZOFFSETFROM:+0200
TZOFFSETTO:+0100
TZNAME:CET
DTSTART:20261025T010000
END:STANDARD
END:VTIMEZONE
BEGIN:VTIMEZONE
TZID:America/Los_Angeles
BEGIN:DAYLIGHT
TZOFFSETFROM:-0800
TZOFFSETTO:-0700
TZNAME:PDT
DTSTART:20240310T100000
END:DAYLIGHT
BEGIN:STANDARD
TZOFFSETFROM:-0700
TZOFFSETTO:-0800
TZNAME:PST
DTSTART:20241103T090000
END:STANDARD
BEGIN:DAYLIGHT
TZOFFSETFROM:-0800
TZOFFSETTO:-0700
TZNAME:PDT
DTSTART:20250309T100000
END:DAYLIGHT
BEGIN:STANDARD
TZOFFSETFROM:-0700
TZOFFSETTO:-0800
TZNAME:PST
DTSTART:20251102T090000
END:STANDARD
BEGIN:DAYLIGHT
TZOFFSETFROM:-0800
TZOFFSETTO:-0700
TZNAME:PDT
DTSTART:20260308T100000
END:DAYLIGHT
BEGIN:STANDARD
TZOFFSETFROM:-0700
TZOFFSETTO:-0800
TZNAME:PST
DTSTART:20261101T090000
END:STANDARD
END:VTIMEZONE
BEGIN:VTIMEZONE
TZID:America/New_York
BEGIN:DAYLIGHT
TZOFFSETFROM:-0500
TZOFFSETTO:-0400
TZNAME:EDT
DTSTART:20240310T070000
END:DAYLIGHT
BEGIN:STANDARD
TZOFFSETFROM:-0400
TZOFFSETTO:-0500
TZNAME:EST
DTSTART:20241103T060000
END:STANDARD
BEGIN:DAYLIGHT
TZOFFSETFROM:-0500
TZOFFSETTO:-0400
TZNAME:EDT
DTSTART:20250309T070000
END:DAYLIGHT
BEGIN:STANDARD
TZOFFSETFROM:-0400
TZOFFSETTO:-0500
TZNAME:EST
DTSTART:20251102T060000
END:STANDARD
BEGIN:DAYLIGHT
TZOFFSETFROM:-0500
TZOFFSETTO:-0400
TZNAME:EDT
DTSTART:20260308T070000
END:DAYLIGHT
BEGIN:STANDARD
TZOFFSETFROM:-0400
TZOFFSETTO:-0500
TZNAME:EST
DTSTART:20261101T060000
END:STANDARD
END:VTIMEZONE
BEGIN:VEVENT
DTSTART;TZID=Europe/Amsterdam:20251102T090000
DTEND;TZID=Europe/Amsterdam:20251102T170000
DTSTAMP:20260421T054421
CREATED:20241205T194217Z
LAST-MODIFIED:20250818T183722Z
UID:10000202-1762074000-1762102800@www.springforestqigong.com
SUMMARY:2025-11-02 Level 1 Online -Marcelle Visser
DESCRIPTION:
URL:https://www.springforestqigong.com/event/2025-11-02-level-1-online-marcelle-visser/
CATEGORIES:Online Events
ATTACH;FMTTYPE=image/png:https://www.springforestqigong.com/wp-content/uploads/2024/10/L1_ONLINE_Event_Filter.png
LOCATION:
END:VEVENT
BEGIN:VEVENT
DTSTART;TZID=America/Los_Angeles:20251108T090000
DTEND;TZID=America/Los_Angeles:20251108T130000
DTSTAMP:20260421T054421
CREATED:20250818T181954Z
LAST-MODIFIED:20250818T181954Z
UID:10000254-1762592400-1762606800@www.springforestqigong.com
SUMMARY:2025-11-08to09 Level 1 Online - Sarah Adams Marr Dumas
DESCRIPTION:
URL:https://www.springforestqigong.com/event/2025-11-08to09-level-1-online-sarah-adams-marr-dumas/
CATEGORIES:Online Events
ATTACH;FMTTYPE=image/png:https://www.springforestqigong.com/wp-content/uploads/2024/10/L1_ONLINE_Event_Filter.png
LOCATION:
END:VEVENT
BEGIN:VEVENT
DTSTART;TZID=America/New_York:20251110T190000
DTEND;TZID=America/New_York:20251110T213000
DTSTAMP:20260421T054421
CREATED:20241126T161000Z
LAST-MODIFIED:20250818T183159Z
UID:10000194-1762801200-1762810200@www.springforestqigong.com
SUMMARY:2025-11-10to12 Level 1 Online - Amy Romano
DESCRIPTION:
URL:https://www.springforestqigong.com/event/2025-11-10to12-level-1-online-amy-romano/
CATEGORIES:Online Events
ATTACH;FMTTYPE=image/png:https://www.springforestqigong.com/wp-content/uploads/2024/10/L1_ONLINE_Event_Filter.png
LOCATION:
END:VEVENT
END:VCALENDAR